BEGIN:VCALENDAR
VERSION:2.0
PRODID:-//ChamberMaster//Event Calendar 2.0//EN
METHOD:PUBLISH
X-PUBLISHED-TTL:P3D
REFRESH-INTERVAL:P3D
CALSCALE:GREGORIAN
BEGIN:VEVENT
DTSTART:20151020T210000Z
DTEND:20151020T230000Z
X-MICROSOFT-CDO-ALLDAYEVENT:FALSE
SUMMARY:Ribbon cutting event for Konek\, PC
DESCRIPTION:Please join us for a ribbon cutting event celebrating the grand opening Konek P.C.'s West Des Moines location!  The event will be Tuesday\, October 20th from 4-6 pm\, with ribbon cutting ceremony taking place at 4:15 pm.  The office is located at 1503 42nd Street\, Ste 100 in West Des Moines.  This event is joint with the West Des Moines Chamber of Commerce. Hope to see you there!
X-ALT-DESC;FMTTYPE=text/html:Please join us for a ribbon cutting event celebrating the grand opening Konek P.C.&#39\;s West Des Moines location! &nbsp\;The event will be Tuesday\, October 20th from 4-6 pm\, with ribbon cutting ceremony taking place at 4:15 pm. &nbsp\;The office is located at 1503 42nd Street\, Ste 100 in West Des Moines. &nbsp\;This event is joint with the West Des Moines Chamber of Commerce. Hope to see you there!
LOCATION:1503 42nd Street\, Ste 100 in West Des Moines
UID:e.1185.4252
SEQUENCE:3
DTSTAMP:20260420T084228Z
URL:http://getaquote-mobile.uniquelyurbandale.com/events/details/ribbon-cutting-event-for-konek-pc-10-20-2015-4252
END:VEVENT

END:VCALENDAR
