BEGIN:VCALENDAR
VERSION:2.0
PRODID:-//ChamberMaster//Event Calendar 2.0//EN
METHOD:PUBLISH
X-PUBLISHED-TTL:P3D
REFRESH-INTERVAL:P3D
CALSCALE:GREGORIAN
BEGIN:VEVENT
DTSTART:20141203T230000Z
DTEND:20141204T010000Z
X-MICROSOFT-CDO-ALLDAYEVENT:FALSE
SUMMARY:Ribbon cutting event for Iowa Fire Athletics
DESCRIPTION:Please join us to celebrate the grand opening of Iowa Fire Athletics on Wednesday\, December 3rd from 5-7 pm with ribbon cutting ceremony at 5:15 pm.  They are located at 4137 120th Street in Urbandale.  Hope to see you there!
X-ALT-DESC;FMTTYPE=text/html:Please join us to celebrate the grand opening of Iowa Fire Athletics on Wednesday\, December 3rd&nbsp\;from 5-7 pm with ribbon cutting ceremony at 5:15 pm. &nbsp\;They are located at 4137 120th Street in Urbandale. &nbsp\;Hope to see you there!
LOCATION:4137 120th Street in Urbandale
UID:e.1185.4127
SEQUENCE:3
DTSTAMP:20260419T180011Z
URL:http://getaquote-mobile.uniquelyurbandale.com/events/details/ribbon-cutting-event-for-iowa-fire-athletics-12-03-2014-4127
END:VEVENT

END:VCALENDAR
