BEGIN:VCALENDAR
VERSION:2.0
PRODID:-//ChamberMaster//Event Calendar 2.0//EN
METHOD:PUBLISH
X-PUBLISHED-TTL:P3D
REFRESH-INTERVAL:P3D
CALSCALE:GREGORIAN
BEGIN:VEVENT
DTSTART:20140603T163000Z
DTEND:20140603T180000Z
X-MICROSOFT-CDO-ALLDAYEVENT:FALSE
SUMMARY:Ribbon cutting event for Imaging Technologies
DESCRIPTION:Please join us for a ribbon cutting event celebrating the new location of Imaging Technologies\, on Tuesday\, June 3rd from 11:30-1:00 pm.  Ribbon cutting ceremony will begin at 11:45 am.  They are now located at 4201 NW  Urbandale Drive in Urbandale.  Hope to see you there!
X-ALT-DESC;FMTTYPE=text/html:Please join us for a ribbon cutting event celebrating the new location of Imaging Technologies\, on Tuesday\, June 3rd from 11:30-1:00 pm. &nbsp\;Ribbon cutting ceremony will begin at 11:45 am. &nbsp\;They are now located at 4201 NW &nbsp\;Urbandale Drive in Urbandale. &nbsp\;Hope to see you there!
LOCATION:4201 NW Urbandale Drive in Urbandale
UID:e.1185.3911
SEQUENCE:3
DTSTAMP:20260419T152626Z
URL:http://getaquote-mobile.uniquelyurbandale.com/events/details/ribbon-cutting-event-for-imaging-technologies-06-03-2014-3911
END:VEVENT

END:VCALENDAR
