BEGIN:VCALENDAR
VERSION:2.0
PRODID:-//ChamberMaster//Event Calendar 2.0//EN
METHOD:PUBLISH
X-PUBLISHED-TTL:P3D
REFRESH-INTERVAL:P3D
CALSCALE:GREGORIAN
BEGIN:VEVENT
DTSTART:20150923T210000Z
DTEND:20150923T220000Z
X-MICROSOFT-CDO-ALLDAYEVENT:FALSE
SUMMARY:Ribbon cutting event for Hotel Renovo
DESCRIPTION:Please join us for a ribbon cutting event celebrating the grand opening of Hotel Renovo on Wednesday\, September 23rd from 4-5 pm.  Ribbon cutting ceremony will take place at 4:15 pm and they are located at 11167 Hickman Road in Urbandale.  Hope to see you there!
X-ALT-DESC;FMTTYPE=text/html:Please join us for a ribbon cutting event celebrating the grand opening of Hotel Renovo on Wednesday\, September 23rd from 4-5 pm. &nbsp\;Ribbon cutting ceremony will take place at 4:15 pm and they are located at 11167 Hickman Road in Urbandale. &nbsp\;Hope to see you there!
LOCATION:11167 Hickman Road in Urbandale
UID:e.1185.4247
SEQUENCE:3
DTSTAMP:20260420T070252Z
URL:http://getaquote-mobile.uniquelyurbandale.com/events/details/ribbon-cutting-event-for-hotel-renovo-09-23-2015-4247
END:VEVENT

END:VCALENDAR
