BEGIN:VCALENDAR
VERSION:2.0
PRODID:-//ChamberMaster//Event Calendar 2.0//EN
METHOD:PUBLISH
X-PUBLISHED-TTL:P3D
REFRESH-INTERVAL:P3D
CALSCALE:GREGORIAN
BEGIN:VEVENT
DTSTART:20151028T210000Z
DTEND:20151029T000000Z
X-MICROSOFT-CDO-ALLDAYEVENT:FALSE
SUMMARY:Ribbon cutting event for HealthMarkets
DESCRIPTION:Join us for a ribbon cutting event for HealthMarkets celebrating their new location on Wednesday\, October 28th from 4-7 pm.  Ribbon cutting will take place at 5:15 pm and they are located at 3149 SE 14th Street\, Ste A in Des Moines.  Hope to see you there!
X-ALT-DESC;FMTTYPE=text/html:Join us for a ribbon cutting event for HealthMarkets celebrating their new location&nbsp\;on Wednesday\, October 28th from 4-7 pm. &nbsp\;Ribbon&nbsp\;cutting will take place at 5:15 pm and they are located at 3149 SE 14th Street\, Ste A in Des Moines. &nbsp\;Hope to see you there!
LOCATION:3149 SE 14th Street\, Ste A in Des Moines.
UID:e.1185.4254
SEQUENCE:3
DTSTAMP:20260420T101247Z
URL:http://getaquote-mobile.uniquelyurbandale.com/events/details/ribbon-cutting-event-for-healthmarkets-10-28-2015-4254
END:VEVENT

END:VCALENDAR
