BEGIN:VCALENDAR
VERSION:2.0
PRODID:-//ChamberMaster//Event Calendar 2.0//EN
METHOD:PUBLISH
X-PUBLISHED-TTL:P3D
REFRESH-INTERVAL:P3D
CALSCALE:GREGORIAN
BEGIN:VEVENT
DTSTART:20150810T220000Z
DTEND:20150811T000000Z
X-MICROSOFT-CDO-ALLDAYEVENT:FALSE
SUMMARY:Ribbon cutting event for Guttenburgers
DESCRIPTION:Please join us to celebrate the grand opening of Guttenburgers on Monday\, August 10th from 5-7 pm.  Ribbon cutting ceremony will take place at 5:30 pm and they are located at 9250 University Ave in West Des Moines. This is a joint ribbon cutting with the West Des Moines and Waukee Chambers.  Hope to see you there!
X-ALT-DESC;FMTTYPE=text/html:Please join us to celebrate the grand opening of Guttenburgers on Monday\, August 10th from 5-7 pm. &nbsp\;Ribbon cutting ceremony will take place at 5:30 pm and they are located at 9250 University Ave in West Des Moines. This is a joint ribbon cutting with the West Des Moines and Waukee Chambers. &nbsp\;Hope to see you there!
LOCATION:9250 University Ave in West Des Moines
UID:e.1185.4237
SEQUENCE:3
DTSTAMP:20260420T054413Z
URL:http://getaquote-mobile.uniquelyurbandale.com/events/details/ribbon-cutting-event-for-guttenburgers-08-10-2015-4237
END:VEVENT

END:VCALENDAR
