BEGIN:VCALENDAR
VERSION:2.0
PRODID:-//ChamberMaster//Event Calendar 2.0//EN
METHOD:PUBLISH
X-PUBLISHED-TTL:P3D
REFRESH-INTERVAL:P3D
CALSCALE:GREGORIAN
BEGIN:VEVENT
DTSTART:20140723T163000Z
DTEND:20140723T180000Z
X-MICROSOFT-CDO-ALLDAYEVENT:FALSE
SUMMARY:Ribbon cutting event for Gophermods
DESCRIPTION:Please join us to celebrate the grand opening of Gophermods on Wednesday\, July 23rd from 11:30-1:00 pm. Ribbon cutting ceremony will begin at 11:45 am.  They are located at 3820 100th Street in Urbandale. Hope to see you there!
X-ALT-DESC;FMTTYPE=text/html:Please join us to celebrate the grand opening of Gophermods on Wednesday\, July 23rd from 11:30-1:00 pm. Ribbon cutting ceremony will begin at 11:45 am. &nbsp\;They are located at 3820 100th Street in Urbandale. Hope to see you there!
LOCATION:3820 100th Street in Urbandale
UID:e.1185.3924
SEQUENCE:3
DTSTAMP:20260419T152538Z
URL:http://getaquote-mobile.uniquelyurbandale.com/events/details/ribbon-cutting-event-for-gophermods-07-23-2014-3924
END:VEVENT

END:VCALENDAR
