BEGIN:VCALENDAR
VERSION:2.0
PRODID:-//ChamberMaster//Event Calendar 2.0//EN
METHOD:PUBLISH
X-PUBLISHED-TTL:P3D
REFRESH-INTERVAL:P3D
CALSCALE:GREGORIAN
BEGIN:VEVENT
DTSTART:20151217T180000Z
DTEND:20151217T200000Z
X-MICROSOFT-CDO-ALLDAYEVENT:FALSE
SUMMARY:Ribbon cutting event for Golden Openings
DESCRIPTION:Please join us to celebrate the grand opening of Golden Openings\, located at 2743 99th Street in Urbandale!  This is a multi-Chamber event and all attendees are encouraged to wear their ugliest sweater to be eligible for prizes! The event will begin at 12:00 and the Urbandale ribbon cutting will take place at 1:15 pm.  Hope to see you there!
X-ALT-DESC;FMTTYPE=text/html:Please join us to celebrate the grand opening of Golden Openings\, located at 2743 99th Street in Urbandale! &nbsp\;This is a multi-Chamber event and all attendees are encouraged to wear their ugliest sweater to be eligible for prizes! The event will begin at 12:00 and the Urbandale ribbon cutting will take place at 1:15 pm. &nbsp\;Hope to see you there!<br />\n&nbsp\;
LOCATION:2743 99th Street in Urbandale
UID:e.1185.4429
SEQUENCE:3
DTSTAMP:20260420T125802Z
URL:http://getaquote-mobile.uniquelyurbandale.com/events/details/ribbon-cutting-event-for-golden-openings-12-17-2015-4429
END:VEVENT

END:VCALENDAR
