BEGIN:VCALENDAR
VERSION:2.0
PRODID:-//ChamberMaster//Event Calendar 2.0//EN
METHOD:PUBLISH
X-PUBLISHED-TTL:P3D
REFRESH-INTERVAL:P3D
CALSCALE:GREGORIAN
BEGIN:VEVENT
DTSTART:20150604T220000Z
DTEND:20150605T000000Z
X-MICROSOFT-CDO-ALLDAYEVENT:FALSE
SUMMARY:Ribbon cutting event for Fusion Boutique
DESCRIPTION:Please join us to celebrate the new location of Fusion Boutique on Thursday\, June 4th from 5-7 pm\, with ribbon cutting ceremony taking place at 5:15 pm.  Fusion Boutique is now located at 4100 University Ave\, Ste 107 in West Des Moines (across street from old location).  Hope you can make it!
X-ALT-DESC;FMTTYPE=text/html:Please join us to celebrate the new location of Fusion Boutique on Thursday\, June 4th from 5-7 pm\, with ribbon cutting ceremony taking place at 5:15 pm. &nbsp\;Fusion Boutique is now located at 4100 University Ave\, Ste 107 in West Des Moines (across street from old location). &nbsp\;Hope you can make it!
LOCATION:4100 University Ave\, Ste 107 in West Des Moines (across street from old location).
UID:e.1185.4229
SEQUENCE:3
DTSTAMP:20260420T024524Z
URL:http://getaquote-mobile.uniquelyurbandale.com/events/details/ribbon-cutting-event-for-fusion-boutique-06-04-2015-4229
END:VEVENT

END:VCALENDAR
