BEGIN:VCALENDAR
VERSION:2.0
PRODID:-//ChamberMaster//Event Calendar 2.0//EN
METHOD:PUBLISH
X-PUBLISHED-TTL:P3D
REFRESH-INTERVAL:P3D
CALSCALE:GREGORIAN
BEGIN:VEVENT
DTSTART:20150429T180000Z
DTEND:20150429T200000Z
X-MICROSOFT-CDO-ALLDAYEVENT:FALSE
SUMMARY:Ribbon cutting event for Fairfield Inn & Suites
DESCRIPTION:Please join us to celebrate the one year anniversary of Fairfield Inn & Suites on Wednesday\, April 29th from 1-3 pm.  Ribbon cutting ceremony will begin at 1:15 pm.  They are located at 8661 Plum Drive in Urbandale.  Hope to see you there!
X-ALT-DESC;FMTTYPE=text/html:Please join us to celebrate the one year anniversary of Fairfield Inn &amp\; Suites on Wednesday\, April 29th from 1-3 pm. &nbsp\;Ribbon cutting ceremony will begin at 1:15 pm. &nbsp\;They are located at 8661 Plum Drive in Urbandale. &nbsp\;Hope to see you there!
LOCATION:8661 Plum Drive in Urbandale
UID:e.1185.4215
SEQUENCE:3
DTSTAMP:20260420T012057Z
URL:http://getaquote-mobile.uniquelyurbandale.com/events/details/ribbon-cutting-event-for-fairfield-inn-suites-04-29-2015-4215
END:VEVENT

END:VCALENDAR
