BEGIN:VCALENDAR
VERSION:2.0
PRODID:-//ChamberMaster//Event Calendar 2.0//EN
METHOD:PUBLISH
X-PUBLISHED-TTL:P3D
REFRESH-INTERVAL:P3D
CALSCALE:GREGORIAN
BEGIN:VEVENT
DTSTART:20150625T210000Z
DTEND:20150625T230000Z
X-MICROSOFT-CDO-ALLDAYEVENT:FALSE
SUMMARY:Ribbon cutting event for F & O's Restaurant
DESCRIPTION:Join us to celebrate the newly remodeled dining/meeting room at F & O's Restaurant on Thursday\, June 25th from 4-6 pm.  Ribbon cutting will be held at 4:15 pm.  They are located at 4050 Merle Hay Road in Des Moines. Hope to see you there!
X-ALT-DESC;FMTTYPE=text/html:Join us to celebrate the&nbsp\;<span style="line-height: 18.9090900421143px\;">newly remodeled dining/meeting room at&nbsp\;</span>F &amp\; O&#39\;s Restaurant on Thursday\, June 25th from 4-6 pm. &nbsp\;Ribbon cutting will be held at 4:15 pm. &nbsp\;They are located at 4050 Merle Hay Road in Des Moines. Hope to see you there!
LOCATION:4050 Merle Hay Road in Des Moines
UID:e.1185.4227
SEQUENCE:3
DTSTAMP:20260420T024437Z
URL:http://getaquote-mobile.uniquelyurbandale.com/events/details/ribbon-cutting-event-for-f-o-s-restaurant-06-25-2015-4227
END:VEVENT

END:VCALENDAR
