BEGIN:VCALENDAR
VERSION:2.0
PRODID:-//ChamberMaster//Event Calendar 2.0//EN
METHOD:PUBLISH
X-PUBLISHED-TTL:P3D
REFRESH-INTERVAL:P3D
CALSCALE:GREGORIAN
BEGIN:VEVENT
DTSTART:20140226T140000Z
DTEND:20140226T150000Z
X-MICROSOFT-CDO-ALLDAYEVENT:FALSE
SUMMARY:Ribbon cutting event for Exit Realty Capital City
DESCRIPTION:Join us to celebrate the grand opening of Exit Realty Capital City\, located at 2936 104th Street in Urbandale.  The event will be held on Wednesday\, February 26th from 8-9 am.  Ribbon cutting ceremony will take place at 8:15 am. Hope to see you there!
X-ALT-DESC;FMTTYPE=text/html:Join us to celebrate the grand opening of&nbsp\;Exit Realty Capital City\, located at 2936 104th Street in Urbandale. &nbsp\;The event will be held on Wednesday\, February 26th from 8-9 am. &nbsp\;Ribbon cutting ceremony will take place at 8:15 am. Hope to see you there!
LOCATION:2936 104th Street in Urbandale
UID:e.1185.3820
SEQUENCE:3
DTSTAMP:20260419T222254Z
URL:http://getaquote-mobile.uniquelyurbandale.com/events/details/ribbon-cutting-event-for-exit-realty-capital-city-02-26-2014-3820
END:VEVENT

END:VCALENDAR
