BEGIN:VCALENDAR
VERSION:2.0
PRODID:-//ChamberMaster//Event Calendar 2.0//EN
METHOD:PUBLISH
X-PUBLISHED-TTL:P3D
REFRESH-INTERVAL:P3D
CALSCALE:GREGORIAN
BEGIN:VEVENT
DTSTART:20140611T210000Z
DTEND:20140611T233000Z
X-MICROSOFT-CDO-ALLDAYEVENT:FALSE
SUMMARY:Ribbon cutting event for Evolving Edge Graphics\, LLC
DESCRIPTION:Please join us in celebrating the expansion and one year anniversary of Evolving Edge Graphics\, LLC on Wednesday\, June 11th from 4-6:30 pm.  Ribbon cutting ceremony will take place at 4:15 pm.  They are located at 3100 Justin Drive\, Ste F in Urbandale.  Hope to see you there!
X-ALT-DESC;FMTTYPE=text/html:Please join us in celebrating the expansion and one year anniversary of Evolving Edge Graphics\, LLC on Wednesday\, June 11th&nbsp\;from 4-6:30 pm. &nbsp\;Ribbon cutting ceremony will take place at 4:15 pm. &nbsp\;They are located at 3100 Justin Drive\, Ste F in Urbandale. &nbsp\;Hope to see you there!
LOCATION:3100 Justin Drive\, Ste F in Urbandale
UID:e.1185.3915
SEQUENCE:3
DTSTAMP:20260419T152538Z
URL:http://getaquote-mobile.uniquelyurbandale.com/events/details/ribbon-cutting-event-for-evolving-edge-graphics-llc-06-11-2014-3915
END:VEVENT

END:VCALENDAR
