BEGIN:VCALENDAR
VERSION:2.0
PRODID:-//ChamberMaster//Event Calendar 2.0//EN
METHOD:PUBLISH
X-PUBLISHED-TTL:P3D
REFRESH-INTERVAL:P3D
CALSCALE:GREGORIAN
BEGIN:VEVENT
DTSTART:20140626T210000Z
DTEND:20140626T230000Z
X-MICROSOFT-CDO-ALLDAYEVENT:FALSE
SUMMARY:Ribbon cutting event for EDJE/DesignInk
DESCRIPTION:Please join us to celebrate the new location of EDJE/DesignInk on Thursday\, June 26th from 4-6 pm at 4313 NW Urbandale Drive in Urbandale.  Ribbon cutting ceremony will begin at 4:15 pm.  Hope to see you there!
X-ALT-DESC;FMTTYPE=text/html:Please join us to celebrate the new location of EDJE/DesignInk on Thursday\, June 26th from 4-6 pm at 4313 NW Urbandale Drive in Urbandale. &nbsp\;Ribbon cutting ceremony will begin at 4:15 pm. &nbsp\;Hope to see you there!
LOCATION:4313 NW Urbandale Drive in Urbandale
UID:e.1185.3916
SEQUENCE:3
DTSTAMP:20260419T152723Z
URL:http://getaquote-mobile.uniquelyurbandale.com/events/details/ribbon-cutting-event-for-edje-designink-06-26-2014-3916
END:VEVENT

END:VCALENDAR
