BEGIN:VCALENDAR
VERSION:2.0
PRODID:-//ChamberMaster//Event Calendar 2.0//EN
METHOD:PUBLISH
X-PUBLISHED-TTL:P3D
REFRESH-INTERVAL:P3D
CALSCALE:GREGORIAN
BEGIN:VEVENT
DTSTART:20150929T170000Z
DTEND:20150929T180000Z
X-MICROSOFT-CDO-ALLDAYEVENT:FALSE
SUMMARY:Ribbon cutting event for Doerrfeld Companies
DESCRIPTION:Please join us for a ribbon cutting event for Doerrfeld Companies to celebrate their new location on Tuesday\, September 29th from 12-1 pm with ribbon cutting ceremony taking place at 12:15 pm.  They are now located at 4349 NW Urbandale Drive in Urbandale. Hope to see you there!
X-ALT-DESC;FMTTYPE=text/html:Please join us for a ribbon cutting event for Doerrfeld Companies to celebrate their new location on Tuesday\, September 29th from 12-1 pm with ribbon cutting ceremony taking place at 12:15 pm. &nbsp\;They are now located at 4349 NW Urbandale Drive in Urbandale. Hope to see you there!
LOCATION:4349 NW Urbandale Drive in Urbandale
UID:e.1185.4249
SEQUENCE:3
DTSTAMP:20260420T070233Z
URL:http://getaquote-mobile.uniquelyurbandale.com/events/details/ribbon-cutting-event-for-doerrfeld-companies-09-29-2015-4249
END:VEVENT

END:VCALENDAR
