BEGIN:VCALENDAR
VERSION:2.0
PRODID:-//ChamberMaster//Event Calendar 2.0//EN
METHOD:PUBLISH
X-PUBLISHED-TTL:P3D
REFRESH-INTERVAL:P3D
CALSCALE:GREGORIAN
BEGIN:VEVENT
DTSTART:20150501T170000Z
DTEND:20150501T180000Z
X-MICROSOFT-CDO-ALLDAYEVENT:FALSE
SUMMARY:Ribbon cutting event for Do Overz
DESCRIPTION:Please join us for a ribbon cutting event celebrating the grand opening of Do Overz on Friday\, May 1st from 12-1 pm.  Ribbon cutting ceremony will begin at 12:15 pm.  They are located at 7611 Douglas Ave in Urbandale.  Hope to see you there!
X-ALT-DESC;FMTTYPE=text/html:Please join us for a ribbon cutting event celebrating the grand opening of Do Overz on Friday\, May 1st from 12-1 pm. &nbsp\;Ribbon cutting ceremony will begin at 12:15 pm. &nbsp\;They are located at 7611 Douglas Ave in Urbandale. &nbsp\;Hope to see you there!
LOCATION:7611 Douglas Ave in Urbandale
UID:e.1185.4216
SEQUENCE:3
DTSTAMP:20260420T024459Z
URL:http://getaquote-mobile.uniquelyurbandale.com/events/details/ribbon-cutting-event-for-do-overz-05-01-2015-4216
END:VEVENT

END:VCALENDAR
