BEGIN:VCALENDAR
VERSION:2.0
PRODID:-//ChamberMaster//Event Calendar 2.0//EN
METHOD:PUBLISH
X-PUBLISHED-TTL:P3D
REFRESH-INTERVAL:P3D
CALSCALE:GREGORIAN
BEGIN:VEVENT
DTSTART:20150710T160000Z
DTEND:20150710T170000Z
X-MICROSOFT-CDO-ALLDAYEVENT:FALSE
SUMMARY:Ribbon cutting event for DISTek Integration\, Inc
DESCRIPTION:Please join us to celebrate the grand opening of DISTek's new location at 11167 Aurora Ave in Urbandale\, on Friday\, July 10th.  The event will be from 11-12 pm with ribbon cutting ceremony taking place at 11:15 am.  Hope to see you there!
X-ALT-DESC;FMTTYPE=text/html:Please join us to celebrate the grand opening of DISTek&#39\;s new location at 11167 Aurora Ave in Urbandale\, on Friday\, July 10th. &nbsp\;The event will be from 11-12 pm with ribbon cutting ceremony taking place at 11:15 am. &nbsp\;Hope to see you there!
LOCATION:11167 Aurora Ave in Urbandale
UID:e.1185.4230
SEQUENCE:3
DTSTAMP:20260420T041333Z
URL:http://getaquote-mobile.uniquelyurbandale.com/events/details/ribbon-cutting-event-for-distek-integration-inc-07-10-2015-4230
END:VEVENT

END:VCALENDAR
