BEGIN:VCALENDAR
VERSION:2.0
PRODID:-//ChamberMaster//Event Calendar 2.0//EN
METHOD:PUBLISH
X-PUBLISHED-TTL:P3D
REFRESH-INTERVAL:P3D
CALSCALE:GREGORIAN
BEGIN:VEVENT
DTSTART:20150521T213000Z
DTEND:20150521T230000Z
X-MICROSOFT-CDO-ALLDAYEVENT:FALSE
SUMMARY:Ribbon cutting event for CRATOS
DESCRIPTION:Please join us to celebrate the grand opening of CRATOS\, on Thursday\, May 21st from 4:30-6:00 pm.  Ribbon cutting ceremony will begin at 4:45 pm.  CRATOS is located at 12871 University\, Ste 160 in Clive.  This is a joint event with the Clive Chamber of Commerce.  Hope to see you there!
X-ALT-DESC;FMTTYPE=text/html:Please join us to celebrate the grand opening of CRATOS\, on Thursday\, May 21st from 4:30-6:00 pm. &nbsp\;Ribbon cutting ceremony will begin at 4:45 pm. &nbsp\;CRATOS is located at 12871 University\, Ste 160 in Clive. &nbsp\;This is a joint event with the Clive Chamber of Commerce. &nbsp\;Hope to see you there!
LOCATION:12871 University\, Ste 160 in Clive
UID:e.1185.4220
SEQUENCE:3
DTSTAMP:20260420T012819Z
URL:http://getaquote-mobile.uniquelyurbandale.com/events/details/ribbon-cutting-event-for-cratos-05-21-2015-4220
END:VEVENT

END:VCALENDAR
