BEGIN:VCALENDAR
VERSION:2.0
PRODID:-//ChamberMaster//Event Calendar 2.0//EN
METHOD:PUBLISH
X-PUBLISHED-TTL:P3D
REFRESH-INTERVAL:P3D
CALSCALE:GREGORIAN
BEGIN:VEVENT
DTSTART:20140402T210000Z
DTEND:20140402T230000Z
X-MICROSOFT-CDO-ALLDAYEVENT:FALSE
SUMMARY:Ribbon cutting event for Community Support Advocates\, Inc.
DESCRIPTION:Please join us for a ribbon cutting event for Community Support Advocates\, Inc. celebrating the grand opening of their Integrated Health Program.  They will have an open house on Wednesday\, April 2nd from 4-6 pm with ribbon cutting ceremony at 4:15 pm.  They are located at 6000 Aurora Ave\, Ste B in Urbandale.\n\n\n\nCSA's Integrated Health Program provides whole health coordinated care for young people\, age 16 to 26\, with a serious mental illness or serious emotional disturbance who are Medicaid Eligible. This program is designed to address the unique mental health\, physical and social needs of young people and their families as they transition into adulthood.
X-ALT-DESC;FMTTYPE=text/html:Please join us for a ribbon cutting event for Community Support Advocates\, Inc.&nbsp\;celebrating the grand opening of their Integrated Health Program. &nbsp\;They will have an open house on Wednesday\, April 2nd from 4-6 pm with ribbon cutting ceremony at 4:15 pm. &nbsp\;They are located at 6000 Aurora Ave\, Ste B in Urbandale.<br />\n<br />\nCSA&rsquo\;s Integrated Health Program provides whole health coordinated care for young people\, age 16 to 26\, with a serious mental illness or serious emotional disturbance who are Medicaid Eligible. This program is designed to address the unique mental health\, physical and social needs of young people and their families as they transition into adulthood.
LOCATION:6000 Aurora Ave\, Ste B in Urbandale
UID:e.1185.3865
SEQUENCE:3
DTSTAMP:20260419T180010Z
URL:http://getaquote-mobile.uniquelyurbandale.com/events/details/ribbon-cutting-event-for-community-support-advocates-inc-04-02-2014-3865
END:VEVENT

END:VCALENDAR
