BEGIN:VCALENDAR
VERSION:2.0
PRODID:-//ChamberMaster//Event Calendar 2.0//EN
METHOD:PUBLISH
X-PUBLISHED-TTL:P3D
REFRESH-INTERVAL:P3D
CALSCALE:GREGORIAN
BEGIN:VEVENT
DTSTART:20150319T210000Z
DTEND:20150320T000000Z
X-MICROSOFT-CDO-ALLDAYEVENT:FALSE
SUMMARY:Ribbon cutting event for CMG Financial-CANCELLED
DESCRIPTION:This event has been cancelled.
X-ALT-DESC;FMTTYPE=text/html:This event has been cancelled.&nbsp\;
LOCATION:
UID:e.1185.4160
SEQUENCE:3
DTSTAMP:20260419T222449Z
URL:http://getaquote-mobile.uniquelyurbandale.com/events/details/ribbon-cutting-event-for-cmg-financial-cancelled-03-19-2015-4160
END:VEVENT

END:VCALENDAR
