BEGIN:VCALENDAR
VERSION:2.0
PRODID:-//ChamberMaster//Event Calendar 2.0//EN
METHOD:PUBLISH
X-PUBLISHED-TTL:P3D
REFRESH-INTERVAL:P3D
CALSCALE:GREGORIAN
BEGIN:VEVENT
DTSTART:20140708T160000Z
DTEND:20140708T180000Z
X-MICROSOFT-CDO-ALLDAYEVENT:FALSE
SUMMARY:Ribbon cutting event for Central Iowa Electronic Cigarettes
DESCRIPTION:Please join us to celebrate the grand opening of Central Iowa Electronic Cigarettes on Tuesday\, July 8th from 11:00 am - 1:00 pm at their location\, 3514 Merle Hay Road.  Ribbon cutting ceremony will take place at 12:15 pm.  Hope to see you there!
X-ALT-DESC;FMTTYPE=text/html:Please join us to celebrate the grand opening of Central Iowa Electronic Cigarettes on Tuesday\, July 8th from 11:00 am - 1:00 pm at their location\, 3514 Merle Hay Road. &nbsp\;Ribbon cutting ceremony will take place at 12:15 pm. &nbsp\;Hope to see you there!
LOCATION:3514 Merle Hay Road
UID:e.1185.3920
SEQUENCE:3
DTSTAMP:20260419T142200Z
URL:http://getaquote-mobile.uniquelyurbandale.com/events/details/ribbon-cutting-event-for-central-iowa-electronic-cigarettes-07-08-2014-3920
END:VEVENT

END:VCALENDAR
