BEGIN:VCALENDAR
VERSION:2.0
PRODID:-//ChamberMaster//Event Calendar 2.0//EN
METHOD:PUBLISH
X-PUBLISHED-TTL:P3D
REFRESH-INTERVAL:P3D
CALSCALE:GREGORIAN
BEGIN:VEVENT
DTSTART:20141210T220000Z
DTEND:20141211T000000Z
X-MICROSOFT-CDO-ALLDAYEVENT:FALSE
SUMMARY:Ribbon cutting event for Canine Clean
DESCRIPTION:Please join us for a ribbon cutting event celebrating the grand opening of Canine Clean on Wednesday\, December 10th from 4-6 pm.  Ribbon cutting ceremony will be held at 4:15 pm.  Canine Clean is located at 2311 Rocklyn Drive in Urbandale. Hope to see you there!
X-ALT-DESC;FMTTYPE=text/html:Please join us for a ribbon cutting event celebrating the grand opening of Canine Clean on Wednesday\, December 10th from 4-6 pm. &nbsp\;Ribbon cutting ceremony will be held at 4:15 pm. &nbsp\;Canine Clean is located at 2311 Rocklyn Drive in Urbandale. Hope to see you there!
LOCATION:2311 Rocklyn Drive in Urbandale
UID:e.1185.4146
SEQUENCE:3
DTSTAMP:20260419T175804Z
URL:http://getaquote-mobile.uniquelyurbandale.com/events/details/ribbon-cutting-event-for-canine-clean-12-10-2014-4146
END:VEVENT

END:VCALENDAR
