BEGIN:VCALENDAR
VERSION:2.0
PRODID:-//ChamberMaster//Event Calendar 2.0//EN
METHOD:PUBLISH
X-PUBLISHED-TTL:P3D
REFRESH-INTERVAL:P3D
CALSCALE:GREGORIAN
BEGIN:VEVENT
DTSTART:20150515T210000Z
DTEND:20150515T220000Z
X-MICROSOFT-CDO-ALLDAYEVENT:FALSE
SUMMARY:Ribbon cutting event for Business Network International
DESCRIPTION:Please join us for a ribbon cutting event celebrating the 30th anniversary of Business Network International (BNI) on Friday\, May 15th from 4-5 pm.  Ribbon cutting ceremony will take place at 4:15 pm.  The event will take place at the Urbandale Chamber RODAN Board Room (2830 100th Street\, Ste 110\, Urbandale).
X-ALT-DESC;FMTTYPE=text/html:Please join us for a ribbon cutting event celebrating the 30th anniversary of Business Network International (BNI) on Friday\, May 15th from 4-5 pm. &nbsp\;Ribbon cutting ceremony will take place at 4:15 pm. &nbsp\;The event will take place at the Urbandale Chamber RODAN Board Room (2830 100th Street\, Ste 110\, Urbandale).&nbsp\;
LOCATION:Urbandale Chamber RODAN Board Room (2830 100th Street\, Ste 110\, Urbandale).
UID:e.1185.4211
SEQUENCE:3
DTSTAMP:20260420T012918Z
URL:http://getaquote-mobile.uniquelyurbandale.com/events/details/ribbon-cutting-event-for-business-network-international-05-15-2015-4211
END:VEVENT

END:VCALENDAR
