BEGIN:VCALENDAR
VERSION:2.0
PRODID:-//ChamberMaster//Event Calendar 2.0//EN
METHOD:PUBLISH
X-PUBLISHED-TTL:P3D
REFRESH-INTERVAL:P3D
CALSCALE:GREGORIAN
BEGIN:VEVENT
DTSTART:20151211T230000Z
DTEND:20151212T010000Z
X-MICROSOFT-CDO-ALLDAYEVENT:FALSE
SUMMARY:Ribbon cutting event for BMW of Des Moines
DESCRIPTION:Please join us for a ribbon cutting event celebrating the grand opening of the new BMW of Des Moines on Friday\, December 11th from 5-7 pm.  Ribbon cutting ceremony will take place at 5:15 pm.  They are now located at 9631 Hickman Road in Urbandale.  Hope to see you there!
X-ALT-DESC;FMTTYPE=text/html:Please join us for a ribbon cutting event celebrating the grand opening of the new BMW of Des Moines on Friday\, December 11th from 5-7 pm. &nbsp\;Ribbon cutting ceremony will take place at 5:15 pm. &nbsp\;They are now located at 9631 Hickman Road in Urbandale. &nbsp\;Hope to see you there!
LOCATION:9631 Hickman Road in Urbandale.
UID:e.1185.4265
SEQUENCE:3
DTSTAMP:20260420T130924Z
URL:http://getaquote-mobile.uniquelyurbandale.com/events/details/ribbon-cutting-event-for-bmw-of-des-moines-12-11-2015-4265
END:VEVENT

END:VCALENDAR
