BEGIN:VCALENDAR
VERSION:2.0
PRODID:-//ChamberMaster//Event Calendar 2.0//EN
METHOD:PUBLISH
X-PUBLISHED-TTL:P3D
REFRESH-INTERVAL:P3D
CALSCALE:GREGORIAN
BEGIN:VEVENT
DTSTART:20200213T210000Z
DTEND:20200214T000000Z
X-MICROSOFT-CDO-ALLDAYEVENT:FALSE
SUMMARY:Ribbon cutting event for BerganKDV
DESCRIPTION:Please join us for a Ribbon Cutting on Thursday\, February 13th from 3-6 pm with the ribbon cutting taking place at 3:45 pm.  They are located at 12100 Meredith Drive\, Suite 200 in Urbandale.  Hope to see you there!
X-ALT-DESC;FMTTYPE=text/html:Please join us for a Ribbon Cutting on Thursday\, February 13th from 3-6 pm with the ribbon cutting taking place at 3:45 pm.&nbsp\;&nbsp\;They are located at 12100 Meredith Drive\, Suite 200 in Urbandale. &nbsp\;Hope to see you there!
LOCATION:12100 Meredith Drive\, Suite 200 in Urbandale
UID:e.1185.10810
SEQUENCE:3
DTSTAMP:20260423T161943Z
URL:http://getaquote-mobile.uniquelyurbandale.com/events/details/ribbon-cutting-event-for-bergankdv-10810
END:VEVENT

END:VCALENDAR
