BEGIN:VCALENDAR
VERSION:2.0
PRODID:-//ChamberMaster//Event Calendar 2.0//EN
METHOD:PUBLISH
X-PUBLISHED-TTL:P3D
REFRESH-INTERVAL:P3D
CALSCALE:GREGORIAN
BEGIN:VEVENT
DTSTART:20151104T180000Z
DTEND:20151104T190000Z
X-MICROSOFT-CDO-ALLDAYEVENT:FALSE
SUMMARY:Ribbon cutting event for Beirman Furniture
DESCRIPTION:Please join us for a ribbon cutting event celebrating the new location of Beirman Furniture on Wednesday\, November 4th from 12-1 pm.  Ribbon cutting ceremony will take place at 12:15 pm and they are now located at 2873 104th Street in Urbandale.  Hope to see you there!
X-ALT-DESC;FMTTYPE=text/html:Please join us for a ribbon cutting event celebrating the new location of Beirman Furniture on Wednesday\, November 4th&nbsp\;from 12-1 pm. &nbsp\;Ribbon cutting ceremony will take place at 12:15 pm and they are now located at 2873 104th Street in Urbandale. &nbsp\;Hope to see you there!
LOCATION:2873 104th Street in Urbandale
UID:e.1185.4248
SEQUENCE:3
DTSTAMP:20260420T114746Z
URL:http://getaquote-mobile.uniquelyurbandale.com/events/details/ribbon-cutting-event-for-beirman-furniture-11-04-2015-4248
END:VEVENT

END:VCALENDAR
