BEGIN:VCALENDAR
VERSION:2.0
PRODID:-//ChamberMaster//Event Calendar 2.0//EN
METHOD:PUBLISH
X-PUBLISHED-TTL:P3D
REFRESH-INTERVAL:P3D
CALSCALE:GREGORIAN
BEGIN:VEVENT
DTSTART:20141119T230000Z
DTEND:20141120T000000Z
X-MICROSOFT-CDO-ALLDAYEVENT:FALSE
SUMMARY:Ribbon cutting event for Balance First Chiropractic Partners\, PLC
DESCRIPTION:Please join us for a ribbon cutting event celebrating the new location of Balance First Chiropractic Partners\, PLC on Wednesday\, November 19th from 5-6 pm.  Ribbon cutting ceremony will take place at 5:15 pm.  They are now located at 3737 Woodland Ave\, Ste 425 in West Des Moines.  See you there!
X-ALT-DESC;FMTTYPE=text/html:Please join us for a ribbon cutting event celebrating the new location of Balance First Chiropractic Partners\, PLC on Wednesday\, November 19th from 5-6 pm. &nbsp\;Ribbon cutting ceremony will take place at 5:15 pm. &nbsp\;They are now located at 3737 Woodland Ave\, Ste&nbsp\;425 in West Des Moines. &nbsp\;See you there!
LOCATION:3737 Woodland Ave\, Ste 425 in West Des Moines
UID:e.1185.4126
SEQUENCE:3
DTSTAMP:20260419T175852Z
URL:http://getaquote-mobile.uniquelyurbandale.com/events/details/ribbon-cutting-event-for-balance-first-chiropractic-partners-plc-11-19-2014-4126
END:VEVENT

END:VCALENDAR
