BEGIN:VCALENDAR
VERSION:2.0
PRODID:-//ChamberMaster//Event Calendar 2.0//EN
METHOD:PUBLISH
X-PUBLISHED-TTL:P3D
REFRESH-INTERVAL:P3D
CALSCALE:GREGORIAN
BEGIN:VEVENT
DTSTART:20150618T170000Z
DTEND:20150618T180000Z
X-MICROSOFT-CDO-ALLDAYEVENT:FALSE
SUMMARY:Ribbon cutting event for Audi Des Moines
DESCRIPTION:Join us to celebrate the grand opening of Audi Des Moines on Thursday\, June 18th from 12-1 pm.  Ribbon cutting ceremony will begin at 12:15 pm.  Audi is located at 5190 Merle Hay Road in Johnston.  This event is joint with the Johnston Chamber of Commerce. Hope to see you there!
X-ALT-DESC;FMTTYPE=text/html:Join us to celebrate the grand opening of Audi Des Moines on Thursday\, June 18th from 12-1 pm. &nbsp\;Ribbon cutting ceremony will begin at 12:15 pm. &nbsp\;Audi is located at 5190 Merle Hay Road in Johnston. &nbsp\;This event is joint with the Johnston Chamber of Commerce. Hope to see you there!
LOCATION:5190 Merle Hay Road in Johnston
UID:e.1185.4232
SEQUENCE:3
DTSTAMP:20260420T024459Z
URL:http://getaquote-mobile.uniquelyurbandale.com/events/details/ribbon-cutting-event-for-audi-des-moines-06-18-2015-4232
END:VEVENT

END:VCALENDAR
