BEGIN:VCALENDAR
VERSION:2.0
PRODID:-//ChamberMaster//Event Calendar 2.0//EN
METHOD:PUBLISH
X-PUBLISHED-TTL:P3D
REFRESH-INTERVAL:P3D
CALSCALE:GREGORIAN
BEGIN:VEVENT
DTSTART:20150803T210000Z
DTEND:20150804T000000Z
X-MICROSOFT-CDO-ALLDAYEVENT:FALSE
SUMMARY:Ribbon cutting event for Art of Life Salon
DESCRIPTION:Please join us to celebrate the new location of Art of Life Salon on Monday\, August 3rd from 4-7 pm!  Ribbon cutting will take place at 4:15 and they are now located at 3270 100th Street in Urbandale.  Hope to see you there!
X-ALT-DESC;FMTTYPE=text/html:Please join us to celebrate the new location of Art of Life Salon on Monday\, August 3rd from 4-7 pm! &nbsp\;Ribbon cutting will take place at 4:15 and they are now located at 3270 100th Street in Urbandale. &nbsp\;Hope to see you there!
LOCATION:3270 100th Street in Urbandale
UID:e.1185.4236
SEQUENCE:3
DTSTAMP:20260420T054513Z
URL:http://getaquote-mobile.uniquelyurbandale.com/events/details/ribbon-cutting-event-for-art-of-life-salon-08-03-2015-4236
END:VEVENT

END:VCALENDAR
