BEGIN:VCALENDAR
VERSION:2.0
PRODID:-//ChamberMaster//Event Calendar 2.0//EN
METHOD:PUBLISH
X-PUBLISHED-TTL:P3D
REFRESH-INTERVAL:P3D
CALSCALE:GREGORIAN
BEGIN:VEVENT
DTSTART:20150507T210000Z
DTEND:20150507T230000Z
X-MICROSOFT-CDO-ALLDAYEVENT:FALSE
SUMMARY:Ribbon cutting event for All Star Corporate Marketing
DESCRIPTION:Please join us for a ribbon cutting event celebrating the new location and new showroom of All Star Corporate Marketing on Thursday\, May 7th from 4-6 pm.  Ribbon cutting ceremony will take place at 4:15 pm. They are located at 6200 Aurora Ave\, 201E in Urbandale.  Hope to see you there!
X-ALT-DESC;FMTTYPE=text/html:Please join us for a ribbon cutting event celebrating the new location and new showroom of All Star Corporate Marketing on Thursday\, May 7th from 4-6 pm. &nbsp\;Ribbon cutting ceremony will take place at 4:15 pm. They are located at 6200 Aurora Ave\, 201E in Urbandale. &nbsp\;Hope to see you there!
LOCATION:6200 Aurora Ave\, 201E in Urbandale
UID:e.1185.4219
SEQUENCE:3
DTSTAMP:20260420T025113Z
URL:http://getaquote-mobile.uniquelyurbandale.com/events/details/ribbon-cutting-event-for-all-star-corporate-marketing-05-07-2015-4219
END:VEVENT

END:VCALENDAR
