BEGIN:VCALENDAR
VERSION:2.0
PRODID:-//ChamberMaster//Event Calendar 2.0//EN
METHOD:PUBLISH
X-PUBLISHED-TTL:P3D
REFRESH-INTERVAL:P3D
CALSCALE:GREGORIAN
BEGIN:VEVENT
DTSTART:20140721T210000Z
DTEND:20140721T230000Z
X-MICROSOFT-CDO-ALLDAYEVENT:FALSE
SUMMARY:Ribbon cutting event for Agape Wellness Center
DESCRIPTION:Please join us to celebrate the new location of Agape Wellness Center on Monday\, July 21st from 4-6 pm.  Ribbon cutting ceremony will take place at 4:15 pm.  They are now located at 7015 Douglas Ave in Urbandale. Hope to see you there!
X-ALT-DESC;FMTTYPE=text/html:Please join us to celebrate the new location of Agape Wellness Center on Monday\, July 21st from 4-6 pm. &nbsp\;Ribbon cutting ceremony will take place at 4:15 pm. &nbsp\;They are now located at 7015 Douglas Ave in Urbandale. Hope to see you there!
LOCATION:7015 Douglas Ave in Urbandale
UID:e.1185.3923
SEQUENCE:3
DTSTAMP:20260419T152926Z
URL:http://getaquote-mobile.uniquelyurbandale.com/events/details/ribbon-cutting-event-for-agape-wellness-center-07-21-2014-3923
END:VEVENT

END:VCALENDAR
