BEGIN:VCALENDAR
VERSION:2.0
PRODID:-//ChamberMaster//Event Calendar 2.0//EN
METHOD:PUBLISH
X-PUBLISHED-TTL:P3D
REFRESH-INTERVAL:P3D
CALSCALE:GREGORIAN
BEGIN:VEVENT
DTSTART:20150423T220000Z
DTEND:20150424T000000Z
X-MICROSOFT-CDO-ALLDAYEVENT:FALSE
SUMMARY:Ribbon cutting event for Active Edge Orthopedic & Sports Massage Therapy
DESCRIPTION:Please join us to celebrate the one year anniversary of Active Edge Orthopedic & Sports Massage Therapy on Thursday\, April 23rd from 5-7 pm.  Ribbon cutting ceremony will take place at 5:15 pm and they are located at 8421 University Blvd\, Ste A in Clive.  Hope to see you there!
X-ALT-DESC;FMTTYPE=text/html:Please join us to celebrate the one year anniversary of Active Edge Orthopedic &amp\; Sports Massage Therapy on Thursday\, April 23rd from 5-7 pm. &nbsp\;Ribbon cutting ceremony will take place at 5:15 pm and they are located at 8421 University Blvd\, Ste A in Clive. &nbsp\;Hope to see you there!
LOCATION:8421 University Blvd\, Ste A in Clive
UID:e.1185.4203
SEQUENCE:3
DTSTAMP:20260419T235402Z
URL:http://getaquote-mobile.uniquelyurbandale.com/events/details/ribbon-cutting-event-for-active-edge-orthopedic-sports-massage-therapy-04-23-2015-4203
END:VEVENT

END:VCALENDAR
