BEGIN:VCALENDAR
VERSION:2.0
PRODID:-//ChamberMaster//Event Calendar 2.0//EN
METHOD:PUBLISH
X-PUBLISHED-TTL:P3D
REFRESH-INTERVAL:P3D
CALSCALE:GREGORIAN
BEGIN:VEVENT
DTSTART:20210818T210000Z
DTEND:20210818T230000Z
X-MICROSOFT-CDO-ALLDAYEVENT:FALSE
SUMMARY:Ribbon Cutting - Caldwell Parrish Funeral Home & Crematory
DESCRIPTION:HELP US CELEBRATE the remodeling of the funeral home to better service families through technology and personalization.
X-ALT-DESC;FMTTYPE=text/html:<span style="font-size:14px\;"><strong>HELP US CELEBRATE the remodeling of the funeral home to better service families through technology and personalization.&nbsp\;</strong></span><br />\n&nbsp\;
LOCATION:8201 Hickman Road Urbandale
UID:e.1185.11321
SEQUENCE:3
DTSTAMP:20260424T171907Z
URL:http://getaquote-mobile.uniquelyurbandale.com/events/details/ribbon-cutting-caldwell-parrish-funeral-home-crematory-11321
END:VEVENT

END:VCALENDAR
