BEGIN:VCALENDAR
VERSION:2.0
PRODID:-//ChamberMaster//Event Calendar 2.0//EN
METHOD:PUBLISH
X-PUBLISHED-TTL:P3D
REFRESH-INTERVAL:P3D
CALSCALE:GREGORIAN
BEGIN:VEVENT
DTSTART:20200218T220000Z
DTEND:20200218T230000Z
X-MICROSOFT-CDO-ALLDAYEVENT:FALSE
SUMMARY:Ribbon Cutting at Urbandale Smiles and meet our newest team member\, holistic focused Dr. Wu
DESCRIPTION:Please allow us to introduce our newest team member\, holistic focused Dr. Chia Wu in conjunction with a ribbon cutting for Urbandale Smiles. We will have gifts for each person in attendance as well as raffle drawings. Lots of giveaways! Food and drinks supplied by Urbandale Smiles.\n\n\n\nWe are a comprehensive dentist office that provide regular hygiene appointments\, Invisalign and oral appliances for sleep apnea and in house dental insurance just to name a few.
X-ALT-DESC;FMTTYPE=text/html:Please allow us to introduce our newest team member\, holistic focused Dr. Chia Wu in conjunction with a ribbon cutting for Urbandale Smiles. We will have gifts for each person in attendance as well as raffle drawings. Lots of giveaways! Food and drinks supplied by Urbandale Smiles.<br />\n<br />\nWe are a comprehensive dentist office that provide regular hygiene appointments\, Invisalign and oral appliances for sleep apnea and in house dental insurance just to name a few.
LOCATION:Urbandale Smiles 8078 Douglas Ave. Urbandale\, IA 50322
UID:e.1185.10793
SEQUENCE:3
DTSTAMP:20260423T173702Z
URL:http://getaquote-mobile.uniquelyurbandale.com/events/details/ribbon-cutting-at-urbandale-smiles-and-meet-our-newest-team-member-holistic-focused-dr-wu-10793
END:VEVENT

END:VCALENDAR
