BEGIN:VCALENDAR
VERSION:2.0
PRODID:-//ChamberMaster//Event Calendar 2.0//EN
METHOD:PUBLISH
X-PUBLISHED-TTL:P3D
REFRESH-INTERVAL:P3D
CALSCALE:GREGORIAN
BEGIN:VEVENT
DTSTART:20170207T233000Z
DTEND:20170208T003000Z
X-MICROSOFT-CDO-ALLDAYEVENT:FALSE
SUMMARY:Renovo Yoga Night
DESCRIPTION:Yoga helps with the mind body and spirit. Join us as we relieve stress and get Zen with a complimentary 1-hour yoga class provided by Kris' Hot Yoga. Please RSVP as space is limited. Namaste.
X-ALT-DESC;FMTTYPE=text/html:Yoga helps with the mind body and spirit. Join us as we relieve stress and get Zen with a complimentary 1-hour yoga class provided by Kris&#39\; Hot Yoga. Please RSVP as space is limited. Namaste.
LOCATION:Hotel Renovo 11167 Hickman Rd Urbandale
UID:e.1185.5125
SEQUENCE:3
DTSTAMP:20260421T082954Z
URL:http://getaquote-mobile.uniquelyurbandale.com/events/details/renovo-yoga-night-5125
END:VEVENT

END:VCALENDAR
