BEGIN:VCALENDAR
VERSION:2.0
PRODID:-//ChamberMaster//Event Calendar 2.0//EN
METHOD:PUBLISH
X-PUBLISHED-TTL:P3D
REFRESH-INTERVAL:P3D
CALSCALE:GREGORIAN
BEGIN:VEVENT
DTSTART:20160621T223000Z
DTEND:20160621T233000Z
X-MICROSOFT-CDO-ALLDAYEVENT:FALSE
SUMMARY:Renovo Summer Patio Party w/515 Brewing
DESCRIPTION:Summer Kick-Off Patio Party Help us kick off summer in style! Our Chefs will be grilling out while we sample delicious local beer from 515 Brewing Company. Enjoy live music by Jon Olson playing piano on the patio.
X-ALT-DESC;FMTTYPE=text/html:Summer Kick-Off Patio Party Help us kick off summer in style! Our Chefs will be grilling out while we sample delicious local beer from 515 Brewing Company. Enjoy live music by Jon Olson playing piano on the patio.
LOCATION:Hotel Renovo 11167 Hickman Rd
UID:e.1185.4820
SEQUENCE:3
DTSTAMP:20260420T195846Z
URL:http://getaquote-mobile.uniquelyurbandale.com/events/details/renovo-summer-patio-party-w-515-brewing-06-21-2016-4820
END:VEVENT

END:VCALENDAR
