BEGIN:VCALENDAR
VERSION:2.0
PRODID:-//ChamberMaster//Event Calendar 2.0//EN
METHOD:PUBLISH
X-PUBLISHED-TTL:P3D
REFRESH-INTERVAL:P3D
CALSCALE:GREGORIAN
BEGIN:VEVENT
DTSTART:20160607T223000Z
DTEND:20160607T233000Z
X-MICROSOFT-CDO-ALLDAYEVENT:FALSE
SUMMARY:Renovo Rendezvous-World Pork
DESCRIPTION:In honor of the World Pork Expo this week\, join us to sample and taste some delicious pork appetizers and entrees! Make sure you stay after the Rendezvous for drink at the bar and enjoy the fire-pit on the patio!
X-ALT-DESC;FMTTYPE=text/html:In honor of the World Pork Expo this week\, join us to sample and taste some delicious pork appetizers and entrees! Make sure you stay after the Rendezvous for drink at the bar and enjoy the fire-pit on the patio!
LOCATION:Hotel Renovo 11167 Hickman Rd Urbandale-50322
UID:e.1185.4818
SEQUENCE:3
DTSTAMP:20260420T212503Z
URL:http://getaquote-mobile.uniquelyurbandale.com/events/details/renovo-rendezvous-world-pork-06-07-2016-4818
END:VEVENT

END:VCALENDAR
