BEGIN:VCALENDAR
VERSION:2.0
PRODID:-//ChamberMaster//Event Calendar 2.0//EN
METHOD:PUBLISH
X-PUBLISHED-TTL:P3D
REFRESH-INTERVAL:P3D
CALSCALE:GREGORIAN
BEGIN:VEVENT
DTSTART:20160712T223000Z
DTEND:20160712T233000Z
X-MICROSOFT-CDO-ALLDAYEVENT:FALSE
SUMMARY:Renovo Rendezvous w/Toppling Goliath Brewing Co.
DESCRIPTION:We are VERY excited to welcome Toppling Goliath Brewing Co. to Renovo for a very special rendezvous! They are joining us all the way from Decorah to sample their award winning beer! We will also be sampling our flatbread pizzas & playing bocce ball on our verdana. This event is FREE\, don't miss this exciting evening at Renovo! About the Venue
X-ALT-DESC;FMTTYPE=text/html:We are VERY excited to welcome Toppling Goliath Brewing Co. to Renovo for a very special rendezvous! They are joining us all the way from Decorah to sample their award winning beer! We will also be sampling our flatbread pizzas &amp\; playing bocce ball on our verdana. This event is FREE\, don&rsquo\;t miss this exciting evening at Renovo! About the Venue
LOCATION:Hotel Renovo 11167 Hickman Rd Urbandale
UID:e.1185.4849
SEQUENCE:3
DTSTAMP:20260420T212605Z
URL:http://getaquote-mobile.uniquelyurbandale.com/events/details/renovo-rendezvous-w-toppling-goliath-brewing-co-07-12-2016-4849
END:VEVENT

END:VCALENDAR
