BEGIN:VCALENDAR
VERSION:2.0
PRODID:-//ChamberMaster//Event Calendar 2.0//EN
METHOD:PUBLISH
X-PUBLISHED-TTL:P3D
REFRESH-INTERVAL:P3D
CALSCALE:GREGORIAN
BEGIN:VEVENT
DTSTART:20160830T223500Z
DTEND:20160831T000000Z
X-MICROSOFT-CDO-ALLDAYEVENT:FALSE
SUMMARY:Renovo Rendezvous w/Peace Tree Brewing Co
DESCRIPTION:Peace Tree Brewing Co. Come sample some handcrafted brew from Peace Tree Brewing Company! Come play some bocce ball and see what our Chefs are cooking up.
X-ALT-DESC;FMTTYPE=text/html:Peace Tree Brewing Co. Come sample some handcrafted brew from Peace Tree Brewing Company! Come play some bocce ball and see what our Chefs are cooking up.
LOCATION:Hotel Renovo 11167 Hickman Rd Urbandale
UID:e.1185.4888
SEQUENCE:3
DTSTAMP:20260420T225746Z
URL:http://getaquote-mobile.uniquelyurbandale.com/events/details/renovo-rendezvous-w-peace-tree-brewing-co-4888
END:VEVENT

END:VCALENDAR
