BEGIN:VCALENDAR
VERSION:2.0
PRODID:-//ChamberMaster//Event Calendar 2.0//EN
METHOD:PUBLISH
X-PUBLISHED-TTL:P3D
REFRESH-INTERVAL:P3D
CALSCALE:GREGORIAN
BEGIN:VEVENT
DTSTART:20160719T223000Z
DTEND:20160719T233000Z
X-MICROSOFT-CDO-ALLDAYEVENT:FALSE
SUMMARY:Renovo Rendezvous w/Magician Jonathan May
DESCRIPTION:Comedy Magician Jonathan May Come experience one of the Midwest's favorite entertainers\, Jonathan May! Prepare to laugh and be amazed as magic appears right before your eyes with this one-of-a-kind experience! Date: Tuesday\, July 19th\, 2016 Time: 5:30-6:30pm Place: Hotel Renovo
X-ALT-DESC;FMTTYPE=text/html:Comedy Magician Jonathan May Come experience one of the Midwest&rsquo\;s favorite entertainers\, Jonathan May! Prepare to laugh and be amazed as magic appears right before your eyes with this one-of-a-kind experience! Date: Tuesday\, July 19th\, 2016 Time: 5:30-6:30pm Place: Hotel Renovo
LOCATION:Hotel Renovo 11167 Hickman Rd Urbandale
UID:e.1185.4850
SEQUENCE:3
DTSTAMP:20260420T212504Z
URL:http://getaquote-mobile.uniquelyurbandale.com/events/details/renovo-rendezvous-w-magician-jonathan-may-07-19-2016-4850
END:VEVENT

END:VCALENDAR
