BEGIN:VCALENDAR
VERSION:2.0
PRODID:-//ChamberMaster//Event Calendar 2.0//EN
METHOD:PUBLISH
X-PUBLISHED-TTL:P3D
REFRESH-INTERVAL:P3D
CALSCALE:GREGORIAN
BEGIN:VEVENT
DTSTART:20160412T223000Z
DTEND:20160412T233000Z
X-MICROSOFT-CDO-ALLDAYEVENT:FALSE
SUMMARY:Renovo Rendezvous w/Jon Olson
DESCRIPTION:Jon Olson\, Pianist Enjoy the music of pianist Jon Olson\, as he plays classical music to pop tunes. Hotel Renovo offers a full bar and and dinner menu ? so have a drink and stay for dinner! This event is FREE to the public!
X-ALT-DESC;FMTTYPE=text/html:Jon Olson\, Pianist Enjoy the music of pianist Jon Olson\, as he plays classical music to pop tunes. Hotel Renovo offers a full bar and and dinner menu ? so have a drink and stay for dinner! This event is FREE to the public!
LOCATION:Hotel Renovo 11167 Hickman Rd Urbandale\, IA 5032
UID:e.1185.4771
SEQUENCE:3
DTSTAMP:20260420T182600Z
URL:http://getaquote-mobile.uniquelyurbandale.com/events/details/renovo-rendezvous-w-jon-olson-04-12-2016-4771
END:VEVENT

END:VCALENDAR
