BEGIN:VCALENDAR
VERSION:2.0
PRODID:-//ChamberMaster//Event Calendar 2.0//EN
METHOD:PUBLISH
X-PUBLISHED-TTL:P3D
REFRESH-INTERVAL:P3D
CALSCALE:GREGORIAN
BEGIN:VEVENT
DTSTART:20160524T223000Z
DTEND:20160524T233000Z
X-MICROSOFT-CDO-ALLDAYEVENT:FALSE
SUMMARY:Renovo Rendezvous w/Jade & Company
DESCRIPTION:Duo Jade and Company Join us at Hotel Renovo for the Tuesday Rendezvous and enjoy the sounds of Jade and Company. The classic rock duo of Chris Roberts on keyboard and singer Michelle Rushing are always a fan favorite!
X-ALT-DESC;FMTTYPE=text/html:Duo Jade and Company Join us at Hotel Renovo for the Tuesday Rendezvous and enjoy the sounds of Jade and Company. The classic rock duo of Chris Roberts on keyboard and singer Michelle Rushing are always a fan favorite!
LOCATION:Hotel Renovo 11167 Hickman Rd
UID:e.1185.4804
SEQUENCE:3
DTSTAMP:20260420T195826Z
URL:http://getaquote-mobile.uniquelyurbandale.com/events/details/renovo-rendezvous-w-jade-company-05-24-2016-4804
END:VEVENT

END:VCALENDAR
