BEGIN:VCALENDAR
VERSION:2.0
PRODID:-//ChamberMaster//Event Calendar 2.0//EN
METHOD:PUBLISH
X-PUBLISHED-TTL:P3D
REFRESH-INTERVAL:P3D
CALSCALE:GREGORIAN
BEGIN:VEVENT
DTSTART:20160419T223000Z
DTEND:20160419T233000Z
X-MICROSOFT-CDO-ALLDAYEVENT:FALSE
SUMMARY:Renovo Rendezvous-Tipsy Desserts
DESCRIPTION:Tipsy Desserts Join us in the Culinary Event Space at Hotel Renovo with Chef Josh Stroeber. Chef Stroeber will be hosting a tasting demonstration of desserts made with spirits. Alcohol-free versions will also be available! This event is FREE to the public!
X-ALT-DESC;FMTTYPE=text/html:Tipsy Desserts Join us in the Culinary Event Space at Hotel Renovo with Chef Josh Stroeber. Chef Stroeber will be hosting a tasting demonstration of desserts made with spirits. Alcohol-free versions will also be available! This event is FREE to the public!
LOCATION:Hotel Renovo 11167 Hickman Rd Urbandale\, IA 50322
UID:e.1185.4772
SEQUENCE:3
DTSTAMP:20260420T182616Z
URL:http://getaquote-mobile.uniquelyurbandale.com/events/details/renovo-rendezvous-tipsy-desserts-04-19-2016-4772
END:VEVENT

END:VCALENDAR
