BEGIN:VCALENDAR
VERSION:2.0
PRODID:-//ChamberMaster//Event Calendar 2.0//EN
METHOD:PUBLISH
X-PUBLISHED-TTL:P3D
REFRESH-INTERVAL:P3D
CALSCALE:GREGORIAN
BEGIN:VEVENT
DTSTART:20160906T223000Z
DTEND:20160906T233000Z
X-MICROSOFT-CDO-ALLDAYEVENT:FALSE
SUMMARY:Renovo Rendezvous Tailgate
DESCRIPTION:Let's Tailgate! It's football season\, so let's have a tailgate party! Wear your favorite team colors and get a $1 off your drink. We will have some tailgate snacks for you to enjoy as well.
X-ALT-DESC;FMTTYPE=text/html:Let&rsquo\;s Tailgate! It&rsquo\;s football season\, so let&rsquo\;s have a tailgate party! Wear your favorite team colors and get a $1 off your drink. We will have some tailgate snacks for you to enjoy as well.
LOCATION:Hotel Renovo 11167 Hickman Rd Urbandale
UID:e.1185.4889
SEQUENCE:3
DTSTAMP:20260421T003208Z
URL:http://getaquote-mobile.uniquelyurbandale.com/events/details/renovo-rendezvous-tailgate-4889
END:VEVENT

END:VCALENDAR
