BEGIN:VCALENDAR
VERSION:2.0
PRODID:-//ChamberMaster//Event Calendar 2.0//EN
METHOD:PUBLISH
X-PUBLISHED-TTL:P3D
REFRESH-INTERVAL:P3D
CALSCALE:GREGORIAN
BEGIN:VEVENT
DTSTART:20160705T223000Z
DTEND:20160705T233000Z
X-MICROSOFT-CDO-ALLDAYEVENT:FALSE
SUMMARY:Renovo Rendezvous-Red\, White & Bleu Cheese
DESCRIPTION:Red\, White & Bleu Cheese Come celebrate the red\, white & blue and sample The Iowan\, our signature charcuterie board. It's filled with an array of delicious meats & cheese\, including local favorite   Maytag Blue Cheese! Date: Tuesday\, July 5th\, 2016 Time: 5:30-6:30pm Place: Hotel Renovo
X-ALT-DESC;FMTTYPE=text/html:Red\, White &amp\; Bleu Cheese Come celebrate the red\, white &amp\; blue and sample The Iowan\, our signature charcuterie board. It&rsquo\;s filled with an array of delicious meats &amp\; cheese\, including local favorite &ndash\; Maytag Blue Cheese! Date: Tuesday\, July 5th\, 2016 Time: 5:30-6:30pm Place: Hotel Renovo
LOCATION:Hotel Renovo 11167 Hickman Rd Urbandale
UID:e.1185.4847
SEQUENCE:3
DTSTAMP:20260420T212440Z
URL:http://getaquote-mobile.uniquelyurbandale.com/events/details/renovo-rendezvous-red-white-bleu-cheese-07-05-2016-4847
END:VEVENT

END:VCALENDAR
