BEGIN:VCALENDAR
VERSION:2.0
PRODID:-//ChamberMaster//Event Calendar 2.0//EN
METHOD:PUBLISH
X-PUBLISHED-TTL:P3D
REFRESH-INTERVAL:P3D
CALSCALE:GREGORIAN
BEGIN:VEVENT
DTSTART:20160503T210000Z
DTEND:20160504T000000Z
X-MICROSOFT-CDO-ALLDAYEVENT:FALSE
SUMMARY:Renovo Rendezvous Pop-Up!
DESCRIPTION:Renovo Rendezvous Pop-up Join us for an Evening of Pampering & Shopping! Michon Leddy from Iowa Facial Plastics will be doing live demonstrations with BOTOX\, Fusion Boutique will have clothing & gifts to purchase\, along with other local vendors XO-LP massages\, jewelry\, make-up\, antiques & more!! Bring your Mom\, friends & co-workers. This will be a great night out\, just in time for Mother?s Day!! Food and drinks will be available in the hotel bar. See you there!!
X-ALT-DESC;FMTTYPE=text/html:Renovo Rendezvous Pop-up Join us for an Evening of Pampering &amp\; Shopping! Michon Leddy from Iowa Facial Plastics will be doing live demonstrations with BOTOX\, Fusion Boutique will have clothing &amp\; gifts to purchase\, along with other local vendors XO-LP massages\, jewelry\, make-up\, antiques &amp\; more!! Bring your Mom\, friends &amp\; co-workers. This will be a great night out\, just in time for Mother?s Day!! Food and drinks will be available in the hotel bar. See you there!!
LOCATION:Hotel Renovo 11167 Hickman Rd
UID:e.1185.4789
SEQUENCE:3
DTSTAMP:20260420T183233Z
URL:http://getaquote-mobile.uniquelyurbandale.com/events/details/renovo-rendezvous-pop-up-05-03-2016-4789
END:VEVENT

END:VCALENDAR
