BEGIN:VCALENDAR
VERSION:2.0
PRODID:-//ChamberMaster//Event Calendar 2.0//EN
METHOD:PUBLISH
X-PUBLISHED-TTL:P3D
REFRESH-INTERVAL:P3D
CALSCALE:GREGORIAN
BEGIN:VEVENT
DTSTART:20160517T223000Z
DTEND:20160517T233000Z
X-MICROSOFT-CDO-ALLDAYEVENT:FALSE
SUMMARY:Renovo Rendezvous-Mixing up Mules!
DESCRIPTION:Mixing Up Renovo Mules Join the Renovo Bartenders and some sample mules off of our new Renovo Mules menu in our brand new HR copper mugs!! Make sure to stay after the rendezvous for mule specials!
X-ALT-DESC;FMTTYPE=text/html:Mixing Up Renovo Mules Join the Renovo Bartenders and some sample mules off of our new Renovo Mules menu in our brand new HR copper mugs!! Make sure to stay after the rendezvous for mule specials!
LOCATION:Hotel Renovo 11167 Hickman Rd
UID:e.1185.4803
SEQUENCE:3
DTSTAMP:20260420T195658Z
URL:http://getaquote-mobile.uniquelyurbandale.com/events/details/renovo-rendezvous-mixing-up-mules-05-17-2016-4803
END:VEVENT

END:VCALENDAR
