BEGIN:VCALENDAR
VERSION:2.0
PRODID:-//ChamberMaster//Event Calendar 2.0//EN
METHOD:PUBLISH
X-PUBLISHED-TTL:P3D
REFRESH-INTERVAL:P3D
CALSCALE:GREGORIAN
BEGIN:VEVENT
DTSTART:20170627T223000Z
DTEND:20170628T000000Z
X-MICROSOFT-CDO-ALLDAYEVENT:FALSE
SUMMARY:Renovo Rendezvous-Let's Pig Out!
DESCRIPTION:Let's Pig Out! The Caribbean awaits and we are going hog wild! Rumcoqui will be here sampling their coconut cream liqueur and we are making pulled pork sliders! Drink specials will be available in the bar.
X-ALT-DESC;FMTTYPE=text/html:Let&rsquo\;s Pig Out! The Caribbean awaits and we are going hog wild! Rumcoqui will be here sampling their coconut cream liqueur and we are making pulled pork sliders! Drink specials will be available in the bar.
LOCATION:Hotel Renovo 11167 Hickman Rd
UID:e.1185.6560
SEQUENCE:3
DTSTAMP:20260421T132322Z
URL:http://getaquote-mobile.uniquelyurbandale.com/events/details/renovo-rendezvous-let-s-pig-out-6560
END:VEVENT

END:VCALENDAR
