BEGIN:VCALENDAR
VERSION:2.0
PRODID:-//ChamberMaster//Event Calendar 2.0//EN
METHOD:PUBLISH
X-PUBLISHED-TTL:P3D
REFRESH-INTERVAL:P3D
CALSCALE:GREGORIAN
BEGIN:VEVENT
DTSTART:20160510T223000Z
DTEND:20160510T233000Z
X-MICROSOFT-CDO-ALLDAYEVENT:FALSE
SUMMARY:Renovo Rendezvous-Comedy
DESCRIPTION:Callista Gould Callista Gould\, of the comedy troupe ?Funny in Business? will be performing with a routine that is ?Clean Comedy from people with a job!? and ?Humor that?s Nutty not Smutty!?
X-ALT-DESC;FMTTYPE=text/html:Callista Gould Callista Gould\, of the comedy troupe ?Funny in Business? will be performing with a routine that is ?Clean Comedy from people with a job!? and ?Humor that?s Nutty not Smutty!?
LOCATION:Hotel Renovo 11167 Hickman Rd
UID:e.1185.4790
SEQUENCE:3
DTSTAMP:20260420T195536Z
URL:http://getaquote-mobile.uniquelyurbandale.com/events/details/renovo-rendezvous-comedy-05-10-2016-4790
END:VEVENT

END:VCALENDAR
