BEGIN:VCALENDAR
VERSION:2.0
PRODID:-//ChamberMaster//Event Calendar 2.0//EN
METHOD:PUBLISH
X-PUBLISHED-TTL:P3D
REFRESH-INTERVAL:P3D
CALSCALE:GREGORIAN
BEGIN:VEVENT
DTSTART:20160913T223000Z
DTEND:20160913T233000Z
X-MICROSOFT-CDO-ALLDAYEVENT:FALSE
SUMMARY:Renovo Rendezvous-Apple Dumpling Demo
DESCRIPTION:Apple Dumpling Demo Join us for a demonstration & sample the Famous Machine Shed Apple Dumpling that has been a staple since 1978.
X-ALT-DESC;FMTTYPE=text/html:Apple Dumpling Demo Join us for a demonstration &amp\; sample the Famous Machine Shed Apple Dumpling that has been a staple since 1978.
LOCATION:Hotel Renovo 11167 Hickman Rd Urbandale
UID:e.1185.4890
SEQUENCE:3
DTSTAMP:20260421T003245Z
URL:http://getaquote-mobile.uniquelyurbandale.com/events/details/renovo-rendezvous-apple-dumpling-demo-4890
END:VEVENT

END:VCALENDAR
